BEGIN:VCALENDAR
VERSION:2.0
PRODID:-//Orange County Community Foundation - ECPv6.6.4.2//NONSGML v1.0//EN
CALSCALE:GREGORIAN
METHOD:PUBLISH
X-WR-CALNAME:Orange County Community Foundation
X-ORIGINAL-URL:https://www.oc-cf.org
X-WR-CALDESC:Events for Orange County Community Foundation
REFRESH-INTERVAL;VALUE=DURATION:PT1H
X-Robots-Tag:noindex
X-PUBLISHED-TTL:PT1H
BEGIN:VTIMEZONE
TZID:UTC
BEGIN:STANDARD
TZOFFSETFROM:+0000
TZOFFSETTO:+0000
TZNAME:UTC
DTSTART:20260101T000000
END:STANDARD
END:VTIMEZONE
BEGIN:VEVENT
DTSTART;VALUE=DATE:20260624
DTEND;VALUE=DATE:20260625
DTSTAMP:20260424T032349
CREATED:20251209T010612Z
LAST-MODIFIED:20260319T205851Z
UID:4129-1782259200-1782345599@www.oc-cf.org
SUMMARY:Protect & Preserve Giving Day 2026
DESCRIPTION:A Giving Day to Sustain the Ecosystems of Orange County\nProtect & Preserve Giving Day supports organizations working to protect and preserve Orange County’s undeveloped open spaces and marine protected areas that enrich 52 miles of California’s coastline. \nClick Here to Learn More and Give!\nQuestions about Giving Days? Please contact us!
URL:https://www.oc-cf.org/event/protect-preserve-giving-day-2026/
CATEGORIES:Environmental Stewardship,Giving Day
ATTACH;FMTTYPE=image/png:https://www.oc-cf.org/wp-content/uploads/2023/03/protect-preserve-badge_square_500px-01-01.png
END:VEVENT
END:VCALENDAR