BEGIN:VCALENDAR
VERSION:2.0
PRODID:-//Orange County Community Foundation - ECPv6.6.4.2//NONSGML v1.0//EN
CALSCALE:GREGORIAN
METHOD:PUBLISH
X-WR-CALNAME:Orange County Community Foundation
X-ORIGINAL-URL:https://www.oc-cf.org
X-WR-CALDESC:Events for Orange County Community Foundation
REFRESH-INTERVAL;VALUE=DURATION:PT1H
X-Robots-Tag:noindex
X-PUBLISHED-TTL:PT1H
BEGIN:VTIMEZONE
TZID:UTC
BEGIN:STANDARD
TZOFFSETFROM:+0000
TZOFFSETTO:+0000
TZNAME:UTC
DTSTART:20260101T000000
END:STANDARD
END:VTIMEZONE
BEGIN:VEVENT
DTSTART;VALUE=DATE:20260729
DTEND;VALUE=DATE:20260730
DTSTAMP:20260420T060544
CREATED:20251209T010705Z
LAST-MODIFIED:20251215T044832Z
UID:4120-1785283200-1785369599@www.oc-cf.org
SUMMARY:Greatness Amplified Giving Day 2026
DESCRIPTION:A Giving Day for Boys & Girls Clubs in Orange County\nBoys & Girls Clubs exist to enable all young people\, especially those who need us most\, to reach their full potential as productive\, caring\, responsible citizens. Our local Boys & Girls Clubs are critical partners in the next stage of supporting Orange County children as they re-engage with their schools\, academics and other development activities. Greatness Amplified Giving Day supports Boys & Girls Clubs throughout Orange County.\nMore information on participating nonprofit organizations coming soon! \nClick Here to Learn More and Give!\nQuestions about Giving Days? Please contact us!
URL:https://www.oc-cf.org/event/greatness-amplified-giving-day-2026/
LOCATION:Online
CATEGORIES:Giving Day
ATTACH;FMTTYPE=image/png:https://www.oc-cf.org/wp-content/uploads/2023/03/greatness-amplified-badge_square_500px-01.png
END:VEVENT
END:VCALENDAR