BEGIN:VCALENDAR
VERSION:2.0
PRODID:-//Orange County Community Foundation - ECPv6.6.4.2//NONSGML v1.0//EN
CALSCALE:GREGORIAN
METHOD:PUBLISH
X-WR-CALNAME:Orange County Community Foundation
X-ORIGINAL-URL:https://www.oc-cf.org
X-WR-CALDESC:Events for Orange County Community Foundation
REFRESH-INTERVAL;VALUE=DURATION:PT1H
X-Robots-Tag:noindex
X-PUBLISHED-TTL:PT1H
BEGIN:VTIMEZONE
TZID:UTC
BEGIN:STANDARD
TZOFFSETFROM:+0000
TZOFFSETTO:+0000
TZNAME:UTC
DTSTART:20260101T000000
END:STANDARD
END:VTIMEZONE
BEGIN:VEVENT
DTSTART;VALUE=DATE:20260708
DTEND;VALUE=DATE:20260709
DTSTAMP:20260422T094844
CREATED:20251209T010631Z
LAST-MODIFIED:20251215T044825Z
UID:4121-1783468800-1783555199@www.oc-cf.org
SUMMARY:Preserving Dignity Giving Day 2026
DESCRIPTION:A Giving Day for OC’s Older Adults in Need\nBy 2040\, it is projected that almost 1 in 4 OC residents will be 65 or older. Preserving Dignity Giving Day supports organizations in support of OC’s Older adults in need.\nMore information on participating nonprofit organizations coming soon! \nClick Here to Learn More and Give!\nQuestions about Giving Days? Please contact us!
URL:https://www.oc-cf.org/event/preserving-dignity-giving-day-2026/
LOCATION:Online
CATEGORIES:Giving Day
ATTACH;FMTTYPE=image/png:https://www.oc-cf.org/wp-content/uploads/2023/03/preserving-dignity-badge_500px-01.png
END:VEVENT
END:VCALENDAR